BEGIN:VCALENDAR
VERSION:2.0
PRODID:-//Squarespace Inc/Squarespace 6//v6//EN
BEGIN:VEVENT
UID:605e1e5788c43a42ebf0e0da@squarespace.com
DTSTAMP:20210326T174924Z
DTSTART:20210827T120000Z
DTEND:20210827T210000Z
SUMMARY:Last day to apply for leave of Absence 
GEO:39.307138;-81.539951
LOCATION:Ohio Valley University\, 1 Campus View Drive\, Vienna\, WV\, 26105
 \, United States
END:VEVENT
END:VCALENDAR
