BEGIN:VCALENDAR
VERSION:2.0
PRODID:-//Squarespace Inc/Squarespace 6//v6//EN
BEGIN:VEVENT
UID:605e1b88daab3e1bd75e23fc@squarespace.com
DTSTAMP:20210326T173827Z
DTSTART:20210809T120000Z
DTEND:20210809T130000Z
SUMMARY:ACT/SAT Score Deadline
GEO:39.307138;-81.539951
LOCATION:Ohio Valley University\, 1 Campus View Drive\, Vienna\, WV\, 26105
 \, United States
END:VEVENT
END:VCALENDAR
