BEGIN:VCALENDAR
VERSION:2.0
PRODID:-//Squarespace Inc/Squarespace 6//v6//EN
BEGIN:VEVENT
UID:605e1f2232aa3378c3e61b6d@squarespace.com
DTSTAMP:20210326T175236Z
DTSTART:20210903T120000Z
DTEND:20210903T210000Z
SUMMARY:Deadline to apply for Graduation. 
GEO:39.307138;-81.539951
LOCATION:Ohio Valley University\, 1 Campus View Drive\, Vienna\, WV\, 26105
 \, United States
END:VEVENT
END:VCALENDAR
