BEGIN:VCALENDAR
VERSION:2.0
PRODID:-//Squarespace Inc/Squarespace 6//v6//EN
BEGIN:VEVENT
UID:605e1ff648559229e4716612@squarespace.com
DTSTAMP:20210326T175540Z
DTSTART:20210906T120000Z
DTEND:20210906T210000Z
SUMMARY:Labor Day
GEO:39.307138;-81.539951
LOCATION:Ohio Valley University\, 1 Campus View Drive\, Vienna\, WV\, 26105
 \, United States
END:VEVENT
END:VCALENDAR
