BEGIN:VCALENDAR
VERSION:2.0
PRODID:-//Squarespace Inc/Squarespace 6//v6//EN
BEGIN:VEVENT
UID:606206f2208c0218a65f229c@squarespace.com
DTSTAMP:20210329T165845Z
DTSTART:20220115T130000Z
DTEND:20220116T010000Z
SUMMARY:Residence Hall open for spring semester 
GEO:39.307138;-81.539951
LOCATION:Ohio Valley University\, 1 Campus View Drive\, Vienna\, WV\, 26105
 \, United States
END:VEVENT
END:VCALENDAR
