BEGIN:VCALENDAR
VERSION:2.0
PRODID:-//Squarespace Inc/Squarespace 6//v6//EN
BEGIN:VEVENT
UID:6062074b230bef7faa9b378e@squarespace.com
DTSTAMP:20210329T170029Z
DTSTART:20220117T130000Z
DTEND:20220118T020000Z
SUMMARY:Martin Luther King Day 
GEO:39.307138;-81.539951
LOCATION:Ohio Valley University\, 1 Campus View Drive\, Vienna\, WV\, 26105
 \, United States
END:VEVENT
END:VCALENDAR
