BEGIN:VCALENDAR
VERSION:2.0
PRODID:-//Squarespace Inc/Squarespace 6//v6//EN
BEGIN:VEVENT
UID:606207b1e7de48238a0f7572@squarespace.com
DTSTAMP:20210329T170119Z
DTSTART:20220118T130000Z
DTEND:20220118T220000Z
SUMMARY:Classes begin for all students 
GEO:39.307138;-81.539951
LOCATION:Ohio Valley University\, 1 Campus View Drive\, Vienna\, WV\, 26105
 \, United States
END:VEVENT
END:VCALENDAR
