BEGIN:VCALENDAR
VERSION:2.0
PRODID:-//Squarespace Inc/Squarespace 6//v6//EN
BEGIN:VEVENT
UID:606208abb8ba275528bfff0e@squarespace.com
DTSTAMP:20210329T170601Z
DTSTART:20220124T130000Z
DTEND:20220124T220000Z
SUMMARY:Last day to..
GEO:39.307138;-81.539951
LOCATION:Ohio Valley University\, 1 Campus View Drive\, Vienna\, WV\, 26105
 \, United States
END:VEVENT
END:VCALENDAR
