BEGIN:VCALENDAR
VERSION:2.0
PRODID:-//Squarespace Inc/Squarespace 6//v6//EN
BEGIN:VEVENT
UID:6062086bbbd0d349587235a9@squarespace.com
DTSTAMP:20210329T170433Z
DTSTART:20220124T130000Z
DTEND:20220124T220000Z
SUMMARY:Last day to apply for leave of absence for spring semester. 
GEO:39.307138;-81.539951
LOCATION:Ohio Valley University\, 1 Campus View Drive\, Vienna\, WV\, 26105
 \, United States
END:VEVENT
END:VCALENDAR
