BEGIN:VCALENDAR
VERSION:2.0
PRODID:-//Squarespace Inc/Squarespace 6//v6//EN
BEGIN:VEVENT
UID:6062097e84590e3527162f53@squarespace.com
DTSTAMP:20210329T170851Z
DTSTART:20220314T120000Z
DTEND:20220318T210000Z
SUMMARY:Spring Break
GEO:39.307138;-81.539951
LOCATION:Ohio Valley University\, 1 Campus View Drive\, Vienna\, WV\, 26105
 \, United States
END:VEVENT
END:VCALENDAR
