BEGIN:VCALENDAR
VERSION:2.0
PRODID:-//Squarespace Inc/Squarespace 6//v6//EN
BEGIN:VEVENT
UID:60620a2bcd141a6e3d474a50@squarespace.com
DTSTAMP:20210329T171154Z
DTSTART:20220415T120000Z
DTEND:20220415T130000Z
SUMMARY:Good Friday
GEO:39.307138;-81.539951
LOCATION:Ohio Valley University\, 1 Campus View Drive\, Vienna\, WV\, 26105
 \, United States
END:VEVENT
END:VCALENDAR
