BEGIN:VCALENDAR
VERSION:2.0
PRODID:-//Squarespace Inc/Squarespace 6//v6//EN
BEGIN:VEVENT
UID:606209e3b00f6d58990f3f25@squarespace.com
DTSTAMP:20210329T171058Z
DTSTART:20220408T120000Z
DTEND:20220408T210000Z
SUMMARY:Last day to withdraw from a class without academic penalty. 
GEO:39.307138;-81.539951
LOCATION:Ohio Valley University\, 1 Campus View Drive\, Vienna\, WV\, 26105
 \, United States
END:VEVENT
END:VCALENDAR
