BEGIN:VCALENDAR
VERSION:2.0
PRODID:-//Squarespace Inc/Squarespace 6//v6//EN
BEGIN:VEVENT
UID:60620b37289626265794b1a9@squarespace.com
DTSTAMP:20210329T171631Z
DTSTART:20220513T123000Z
DTEND:20220513T213000Z
SUMMARY:Graduate Reception and Graduation Rehearsal 
GEO:39.307138;-81.539951
LOCATION:Ohio Valley University\, 1 Campus View Drive\, Vienna\, WV\, 26105
 \, United States
END:VEVENT
END:VCALENDAR
