BEGIN:VCALENDAR
VERSION:2.0
PRODID:-//Squarespace Inc/Squarespace 6//v6//EN
BEGIN:VEVENT
UID:60620adf6710c47d7f83ab98@squarespace.com
DTSTAMP:20210329T171510Z
DTSTART:20220513T123000Z
DTEND:20220514T013000Z
SUMMARY:Residence Halls closed for summer break 
GEO:39.307138;-81.539951
LOCATION:Ohio Valley University\, 1 Campus View Drive\, Vienna\, WV\, 26105
 \, United States
END:VEVENT
END:VCALENDAR
