BEGIN:VCALENDAR
VERSION:2.0
PRODID:-//Squarespace Inc/Squarespace 6//v6//EN
BEGIN:VEVENT
UID:60620ba1b9a8973a12767f2f@squarespace.com
DTSTAMP:20210329T171752Z
DTSTART:20220514T123000Z
DTEND:20220514T133000Z
SUMMARY:Cafeteria Closes 
GEO:39.307138;-81.539951
LOCATION:Ohio Valley University\, 1 Campus View Drive\, Vienna\, WV\, 26105
 \, United States
END:VEVENT
END:VCALENDAR
