BEGIN:VCALENDAR
VERSION:2.0
PRODID:-//Squarespace Inc/Squarespace 6//v6//EN
BEGIN:VEVENT
UID:60620b7cc91a3c19afbd124c@squarespace.com
DTSTAMP:20210329T171714Z
DTSTART:20220514T123000Z
DTEND:20220514T133000Z
SUMMARY:Graduation 
GEO:39.307138;-81.539951
LOCATION:Ohio Valley University\, 1 Campus View Drive\, Vienna\, WV\, 26105
 \, United States
END:VEVENT
END:VCALENDAR
