BEGIN:VCALENDAR
VERSION:2.0
PRODID:-//Squarespace Inc/Squarespace 6//v6//EN
BEGIN:VEVENT
UID:60620a7e2705915104230f79@squarespace.com
DTSTAMP:20210329T171310Z
DTSTART:20220506T120000Z
DTEND:20220506T210000Z
SUMMARY:Last day of classes 
GEO:39.307138;-81.539951
LOCATION:Ohio Valley University\, 1 Campus View Drive\, Vienna\, WV\, 26105
 \, United States
END:VEVENT
END:VCALENDAR
