BEGIN:VCALENDAR
VERSION:2.0
PRODID:-//Squarespace Inc/Squarespace 6//v6//EN
BEGIN:VEVENT
UID:5cd2f81415fcc0177455942e@squarespace.com
DTSTAMP:20190921T134944Z
DTSTART:20190919T193000Z
DTEND:20190921T043000Z
SUMMARY:HOMECOMING 
GEO:39.307138;-81.539951
LOCATION:Ohio Valley University\, 1 CAMPUS VIEW DR\, Vienna
END:VEVENT
END:VCALENDAR
