BEGIN:VCALENDAR
VERSION:2.0
PRODID:-//Squarespace Inc/Squarespace 6//v6//EN
BEGIN:VEVENT
UID:5d445471af29250001608af9@squarespace.com
DTSTAMP:20190802T152346Z
DTSTART:20190815T123000Z
DTEND:20190815T203000Z
SUMMARY:MOVE-IN DAY 
END:VEVENT
END:VCALENDAR
